BEGIN:VCALENDAR
VERSION:2.0
PRODID:spatie/icalendar-generator
DESCRIPTION:静岡市清水区の株式会社ACLパドック｜新車・中
 古車販売店のイベント
X-WR-CALDESC:静岡市清水区の株式会社ACLパドック｜新車・
 中古車販売店のイベント
REFRESH-INTERVAL;VALUE=DURATION:PT1440M
X-PUBLISHED-TTL:PT1440M
BEGIN:VTIMEZONE
TZID:Asia/Tokyo
BEGIN:STANDARD
DTSTART:20260306T000000Z
TZOFFSETFROM:+0900
TZOFFSETTO:+0900
END:STANDARD
END:VTIMEZONE
BEGIN:VTIMEZONE
TZID:UTC
BEGIN:STANDARD
DTSTART:20250725T014015Z
TZOFFSETFROM:+0000
TZOFFSETTO:+0000
END:STANDARD
END:VTIMEZONE
BEGIN:VEVENT
UID:2744-46
DTSTAMP:20260421T014015Z
SUMMARY:定休日　第１火曜
LOCATION:
ORGANIZER;CN=WKXX3X8VTHey:MAILTO:info@yorisou.co.jp.test-google-a.com
RRULE:FREQ=MONTHLY;BYDAY=1TU;UNTIL=20360401T000000Z
DTSTART;TZID=Asia/Tokyo;VALUE=DATE:20261201
DTEND;TZID=Asia/Tokyo;VALUE=DATE:20261202
X-ALT-DESC;FMTTYPE=TEXT/HTML:
CATEGORIES:定休日teikyubi
URL;VALUE=URI:https://acl-paddock.jp/mc-events/%e5%ae%9a%e4%bc%91%e6%97%a5%
 e3%80%80%e7%ac%ac%ef%bc%91%e7%81%ab%e6%9b%9c/?mc_id=2744
END:VEVENT
END:VCALENDAR