BEGIN:VCALENDAR
VERSION:2.0
PRODID:spatie/icalendar-generator
DESCRIPTION:静岡市清水区の株式会社ACLパドック｜新車・中
 古車販売店のイベント
X-WR-CALDESC:静岡市清水区の株式会社ACLパドック｜新車・
 中古車販売店のイベント
REFRESH-INTERVAL;VALUE=DURATION:PT1440M
X-PUBLISHED-TTL:PT1440M
BEGIN:VTIMEZONE
TZID:Asia/Tokyo
BEGIN:STANDARD
DTSTART:20250809T000000Z
TZOFFSETFROM:+0900
TZOFFSETTO:+0900
END:STANDARD
END:VTIMEZONE
BEGIN:VTIMEZONE
TZID:UTC
BEGIN:STANDARD
DTSTART:20250724T155126Z
TZOFFSETFROM:+0000
TZOFFSETTO:+0000
END:STANDARD
END:VTIMEZONE
BEGIN:VEVENT
UID:1970-45
DTSTAMP:20260420T155126Z
SUMMARY:振替休日
LOCATION:
ORGANIZER;CN=WKXX3X8VTHey:MAILTO:info@yorisou.co.jp.test-google-a.com
DTSTART;TZID=Asia/Tokyo:20260506T000000
DTEND;TZID=Asia/Tokyo:20260506T010000
X-ALT-DESC;FMTTYPE=TEXT/HTML:
CATEGORIES:定休日teikyubi
URL;VALUE=URI:https://acl-paddock.jp/mc-events/%e6%8c%af%e6%9b%bf%e4%bc%91%
 e6%97%a5-2/?mc_id=1970
END:VEVENT
END:VCALENDAR