BEGIN:VCALENDAR
VERSION:2.0
PRODID:spatie/icalendar-generator
DESCRIPTION:静岡市清水区の株式会社ACLパドック｜新車・中
 古車販売店のイベント
X-WR-CALDESC:静岡市清水区の株式会社ACLパドック｜新車・
 中古車販売店のイベント
REFRESH-INTERVAL;VALUE=DURATION:PT1440M
X-PUBLISHED-TTL:PT1440M
BEGIN:VTIMEZONE
TZID:Asia/Tokyo
BEGIN:STANDARD
DTSTART:20250805T000000Z
TZOFFSETFROM:+0900
TZOFFSETTO:+0900
END:STANDARD
END:VTIMEZONE
BEGIN:VTIMEZONE
TZID:UTC
BEGIN:STANDARD
DTSTART:20250724T155127Z
TZOFFSETFROM:+0000
TZOFFSETTO:+0000
END:STANDARD
END:VTIMEZONE
BEGIN:VEVENT
UID:1969-44
DTSTAMP:20260420T155127Z
SUMMARY:サービスはお休み、18時閉店
LOCATION:
ORGANIZER;CN=WKXX3X8VTHey:MAILTO:info@yorisou.co.jp.test-google-a.com
DTSTART;TZID=Asia/Tokyo:20260502T000000
DTEND;TZID=Asia/Tokyo:20260505T010000
X-ALT-DESC;FMTTYPE=TEXT/HTML:
CATEGORIES:サービスのお休みservice
URL;VALUE=URI:https://acl-paddock.jp/mc-events/%e3%82%b5%e3%83%bc%e3%83%93%
 e3%82%b9%e3%81%af%e3%81%8a%e4%bc%91%e3%81%bf%e3%80%8118%e6%99%82%e9%96%89%
 e5%ba%97/?mc_id=1969
END:VEVENT
END:VCALENDAR